BEGIN:VCALENDAR
VERSION:2.0
PRODID:-//ChamberMaster//Event Calendar 2.0//EN
METHOD:PUBLISH
X-PUBLISHED-TTL:P3D
REFRESH-INTERVAL:P3D
CALSCALE:GREGORIAN
BEGIN:VEVENT
DTSTART:20241122T010000Z
DTEND:20241122T030000Z
X-MICROSOFT-CDO-ALLDAYEVENT:FALSE
SUMMARY:After Hours Networking - LOCATION CHANGE
DESCRIPTION:Join us for our monthly After-Hours Networking Event\n\nMOVED TO BKC OFFICE\n\n\n\nThe Guest House in Kenmore!\n\n\n\nExperience an opportunity to exchange ideas and explore potential collaborations\n\nForge new business connections\, seek advice\, or simply connect with like-minded professionals\n\n\n\nWe will enjoy premium wines\, beer\, non-alcoholic options & light bites\n\n\n\nCome to connect\, win gift cards & more!
X-ALT-DESC;FMTTYPE=text/html:<p style="text-align: center\;"><strong style="text-align: center\;"><span style="font-size: 15pt\;">Join us for our monthly&nbsp\;</span></strong><strong style="text-align: center\;"><span style="font-size: 15pt\;">After-Hours</span></strong><strong style="text-align: center\;"><span style="font-size: 15pt\;">&nbsp\;Networking Event<br />\nMOVED TO BKC OFFICE</span></strong><br style="text-align: center\;" />\n<br style="text-align: center\;" />\n<span style="font-size:20px\;"><strong>The Guest House in Kenmore!</strong></span></p>\n\n<p style="text-align: center\;"><br style="text-align: center\;" />\n<span style="text-align: center\; font-size: 16px\;"><span new="" style="font-family: " times="">Experience an opportunity to exchange ideas and explore potential collaborations<br />\nForge new business connections\, seek advice\, or simply connect with like-minded professionals</span></span><br style="text-align: center\;" />\n<br style="text-align: center\;" />\n<strong style="text-align: center\;"><span style="font-size: 15pt\;">We will enjoy premium wines\, beer\, non-alcoholic options&nbsp\;</span></strong><strong style="text-align: center\;"><span style="font-size: 15pt\;">&amp\;</span></strong><strong style="text-align: center\;"><span style="font-size: 15pt\;">&nbsp\;light bites</span></strong><br style="text-align: center\;" />\n<br style="text-align: center\;" />\n<strong style="text-align: center\;"><span style="font-size: 18pt\;">Come to connect\, win gift cards &amp\; more!</span></strong><br style="text-align: center\;" />\n&nbsp\;</p>\n
LOCATION:
UID:e.2571.29068
SEQUENCE:3
DTSTAMP:20260423T192603Z
URL:https://cm.bothellkenmorechamber.org/events/details/after-hours-networking-location-change-29068
END:VEVENT

END:VCALENDAR
