BEGIN:VCALENDAR
VERSION:2.0
PRODID:-//ChamberMaster//Event Calendar 2.0//EN
METHOD:PUBLISH
X-PUBLISHED-TTL:P3D
REFRESH-INTERVAL:P3D
CALSCALE:GREGORIAN
BEGIN:VEVENT
DTSTART:20200116T170000Z
DTEND:20200116T180000Z
X-MICROSOFT-CDO-ALLDAYEVENT:FALSE
SUMMARY:Ambassadors Committee
DESCRIPTION:Chamber Ambassadors are encouraged to attend the Bothell Kenmore Chamber's Ambassador Committee Meetings.\n\n\n\nOur Chamber Ambassadors are highly valued members that serve as positive representatives of the Chamber. They promote our organization and the benefits of membership\, and assist members in optimizing their member benefits.\n\n\n\nLearn more about our Ambassadors Committee and contact us if you're interested in becoming an Ambassador.\n\n\n\nAll Chamber members are welcome to attend.
X-ALT-DESC;FMTTYPE=text/html:<br />\nChamber Ambassadors are encouraged to attend the Bothell Kenmore Chamber&#39\;s Ambassador Committee Meetings.<br />\n<br />\nOur <a href="https://bothellkenmorechamber.org/our-chamber/committees/ambassadors/">Chamber Ambassadors</a> are highly valued members that serve as positive representatives of the Chamber. They promote our organization and the benefits of membership\, and assist members in optimizing their member benefits.<br />\n<br />\nLearn more about our <a href="https://bothellkenmorechamber.org/our-chamber/committees/ambassadors/">Ambassadors Committee</a> and <a href="mailto:maurita@bothellkenmorechamber.org">contact us</a> if you&#39\;re interested in becoming an Ambassador.<br />\n<br />\nAll Chamber members are welcome to attend.<br />\n<br />\n<br />\n<br />\n&nbsp\;
LOCATION:Northshore Senior Center\, Room 103
UID:e.2571.19873
SEQUENCE:3
DTSTAMP:20260424T230259Z
URL:https://cm.bothellkenmorechamber.org/events/details/ambassadors-committee-19873
END:VEVENT

END:VCALENDAR
