BEGIN:VCALENDAR
VERSION:2.0
PRODID:-//ChamberMaster//Event Calendar 2.0//EN
METHOD:PUBLISH
X-PUBLISHED-TTL:P3D
REFRESH-INTERVAL:P3D
CALSCALE:GREGORIAN
BEGIN:VEVENT
DTSTART:20240926T143000Z
DTEND:20240926T163000Z
X-MICROSOFT-CDO-ALLDAYEVENT:FALSE
SUMMARY:Chamber General Meeting
DESCRIPTION:Our monthly General Meetings are the perfect platform to connect with fellow chamber members\, exchange industry insights\, and build valuable relationships. By attending\, you'll expand your professional network\, gain exposure for your business\, and discover potential partnerships and collaborations. Don't miss this valuable chance to grow your business and be at the forefront of our thriving community.\n\nTopic: This month join us for an energetic and engaging discussion to shape the future of the Bothell Kenmore Chamber of Commerce!\n\nLocation: Cultures Coffee at Evergreen Church\n \n\nEnjoy a free continental breakfast\, City & Chamber updates\, and more. \n\n\n\nNew this year\, expand your ROI and enhance your presence at our General Meetings by hosting a Business Spotlight Table. This will give you extended reach to over 350 businesses and 900 people.\n\nIncludes:\n\n\n	Announced in Member Emails leading up to the event\n	Logo/branding during Chamber presentation slide deck\n	The table provided at the event\n\n\nSelect the spotlight table option when registering to take advantage of this offering. Space is limited and will be capped by industry. The cost is free.
X-ALT-DESC;FMTTYPE=text/html:<p>Our monthly General Meetings are the perfect platform to connect with fellow chamber members\, exchange industry insights\, and build valuable relationships. By attending\, you&#39\;ll expand your professional network\, gain exposure for your business\, and discover potential partnerships and collaborations. Don&#39\;t miss this valuable chance to grow your business and be at the forefront of our thriving community.</p>\n\n<h3><b>Topic:&nbsp\;</b><span style="font-size:14px\;">This month join us for an energetic and engaging discussion to shape the future of the Bothell Kenmore Chamber of Commerce!</span></h3>\n\n<h3><strong>Location: Cultures Coffee at Evergreen Church</strong></h3>\n&nbsp\;\n\n<div><strong>Enjoy a free continental breakfast\, City &amp\; Chamber updates\, and more.&nbsp\;</strong></div>\n\n<p><br />\nNew this year\, expand your ROI and enhance your presence at our General Meetings by hosting a Business Spotlight Table. This will give you extended reach to over 350 businesses and 900 people.</p>\n\n<p>Includes:</p>\n\n<ul>\n	<li>Announced in Member Emails leading up to the event</li>\n	<li>Logo/branding during Chamber presentation slide deck</li>\n	<li>The table provided at the event</li>\n</ul>\n\n<p>Select the spotlight table option when registering to take advantage of this offering. Space is limited and will be capped by industry. The cost is free.<br />\n<br />\n&nbsp\;</p>\n
LOCATION:
UID:e.2571.29052
SEQUENCE:3
DTSTAMP:20260423T082610Z
URL:https://cm.bothellkenmorechamber.org/events/details/chamber-general-meeting-29052
END:VEVENT

END:VCALENDAR
