BEGIN:VCALENDAR
VERSION:2.0
PRODID:-//ChamberMaster//Event Calendar 2.0//EN
METHOD:PUBLISH
X-PUBLISHED-TTL:P3D
REFRESH-INTERVAL:P3D
CALSCALE:GREGORIAN
BEGIN:VEVENT
DTSTART:20160413T223000Z
DTEND:20160413T233000Z
X-MICROSOFT-CDO-ALLDAYEVENT:FALSE
SUMMARY:Downtown ACTION Committee
DESCRIPTION:The Downtown ACTION Committee focuses on improving the downtown business environment and building for continued progress. This committee is intended to provide a forum fo downtown business representatives to discuss issues of mutual interest\, as well as approaches and solutions.
X-ALT-DESC;FMTTYPE=text/html:<br />\nThe Downtown ACTION Committee focuses on improving the downtown business environment and building for continued progress. This committee is intended to provide a forum fo downtown business representatives to discuss issues of mutual interest\, as well as approaches and solutions.
LOCATION:Alexa's Cafe 10115 Main Street Bothell\, WA
UID:e.2571.8529
SEQUENCE:3
DTSTAMP:20260422T090205Z
URL:https://cm.bothellkenmorechamber.org/events/details/downtown-action-committee-04-13-2016-8529
END:VEVENT

END:VCALENDAR
