BEGIN:VCALENDAR
VERSION:2.0
PRODID:-//ChamberMaster//Event Calendar 2.0//EN
METHOD:PUBLISH
X-PUBLISHED-TTL:P3D
REFRESH-INTERVAL:P3D
CALSCALE:GREGORIAN
BEGIN:VEVENT
DTSTART:20211207T180000Z
DTEND:20211207T200000Z
X-MICROSOFT-CDO-ALLDAYEVENT:FALSE
SUMMARY:Driftwood Sculpture | Kenmore Branch Northshore Senior Center
DESCRIPTION:In Driftwood Sculpture\, we bring out the beauty hidden under layers of dirt and decay.  We clean\, shape and finish old "found" wood into a unique sculpture with amazing results!  Beginners welcome\, some basic materials provided to get started.
X-ALT-DESC;FMTTYPE=text/html:In Driftwood Sculpture\, we bring out the beauty hidden under layers of dirt and decay.&nbsp\; We clean\, shape and finish old &quot\;found&quot\; wood into a unique sculpture with amazing results!&nbsp\; Beginners welcome\, some basic materials provided to get started.&nbsp\;
LOCATION:Kenmore Branch - Northshore Senior Center 6910 NE 170th Rhododendron Park Kenmore\, WA 98028
UID:e.2571.24391
SEQUENCE:3
DTSTAMP:20260424T061400Z
URL:https://cm.bothellkenmorechamber.org/events/details/driftwood-sculpture-kenmore-branch-northshore-senior-center-12-07-2021-24391
END:VEVENT

END:VCALENDAR
