BEGIN:VCALENDAR
VERSION:2.0
PRODID:-//ChamberMaster//Event Calendar 2.0//EN
METHOD:PUBLISH
X-PUBLISHED-TTL:P3D
REFRESH-INTERVAL:P3D
CALSCALE:GREGORIAN
BEGIN:VEVENT
DTSTART:20220611T150000Z
DTEND:20220611T190000Z
X-MICROSOFT-CDO-ALLDAYEVENT:FALSE
SUMMARY:Drive-thru Swedish Pancake Breakfast at Bothell Sons of Norway
DESCRIPTION:Drive to Bothell Sons of Norway\, stay in your car and we will deliver a hot breakfast of 4 Swedish Pancakes\, Strawberries and Ham for $10.00 Adult order (donation).   Child's order of 2 Pancakes\, Strawberries and Ham for $5.00 (donation).  Orange juice available on request.  Sorry\, no coffee but Starbucks\, Mercury\, and Wood's coffee is near-by.   Open to the Public.
X-ALT-DESC;FMTTYPE=text/html:Drive to Bothell Sons of Norway\, stay in your car and we will deliver a hot breakfast of 4 Swedish Pancakes\, Strawberries and Ham for $10.00 Adult order (<span style="font-size:8.0pt">donation).</span>&nbsp\;&nbsp\; Child&rsquo\;s order of 2 Pancakes\, Strawberries and Ham for $5.00 <span style="font-size:8.0pt">(donation). </span>&nbsp\;Orange juice available on request.&nbsp\; Sorry\, no coffee but Starbucks\, Mercury\, and Wood&rsquo\;s coffee is near-by.&nbsp\;&nbsp\; Open to the Public.
LOCATION:Bothell Sons of Norway 23905 Bothell Everett Hwy\, Bothell\, WA 98021
UID:e.2571.23330
SEQUENCE:3
DTSTAMP:20260422T172419Z
URL:https://cm.bothellkenmorechamber.org/events/details/drive-thru-swedish-pancake-breakfast-at-bothell-sons-of-norway-06-11-2022-23330
END:VEVENT

END:VCALENDAR
