BEGIN:VCALENDAR
VERSION:2.0
PRODID:-//ChamberMaster//Event Calendar 2.0//EN
METHOD:PUBLISH
X-PUBLISHED-TTL:P3D
REFRESH-INTERVAL:P3D
CALSCALE:GREGORIAN
BEGIN:VEVENT
DTSTART:20200924T143000Z
DTEND:20200924T160000Z
X-MICROSOFT-CDO-ALLDAYEVENT:FALSE
SUMMARY:General Meeting
DESCRIPTION:Professionals and business owners are invited to our General Meetings to discover new connections and collaboration opportunities with 70-100 other people.\n\n\n\nTopic:  TBD\n\nPresenter: \n\n\n\nAttendees at our General Meetings will benefit from:\n\n\n	Open networking which results in new and stronger connections\n	Focused table discussions or a beneficial presentation\n	Meeting new members and learning about their businesses\n	Hearing from city officials from Kenmore and Bothell who provide updates on issues affecting local businesses.\n\n\nMembers are encouraged to attend\, and bring their marketing brochures for the Member Information Table.\n\n\n\nGuests (non-members) are invited\, and are welcome to attend up to 3 Chamber events prior to making a decision about membership.\n\n\n\nDoors open at 7:15am for socializing.\n\n\n\nTable and Refreshment sponsorships may be available. Contact Maurita Colburn\, Member & Community Relations Manager for details and to reserve.
X-ALT-DESC;FMTTYPE=text/html:<p>Professionals and business owners are invited to our General Meetings to discover new connections and collaboration opportunities with 70-100 other people.<br />\n<br />\nTopic:&nbsp\; TBD<br />\nPresenter:&nbsp\;<br />\n<br />\nAttendees at our General Meetings will benefit from:</p>\n\n<ul>\n	<li>Open networking which results in new and stronger connections</li>\n	<li>Focused table discussions or a beneficial presentation</li>\n	<li>Meeting new members and learning about their businesses</li>\n	<li>Hearing from city officials from Kenmore and Bothell who provide updates on issues affecting local businesses.</li>\n</ul>\n\n<p>Members are encouraged to attend\, and bring their marketing brochures for the Member Information Table.<br />\n<br />\nGuests (non-members) are invited\, and are welcome to attend up to 3 Chamber events prior to making a decision about membership.<br />\n<br />\nDoors open at 7:15am for socializing.<br />\n<br />\nTable and Refreshment sponsorships may be available. Contact <a href="mailto:maurita@bothellkenmorechamber.org">Maurita Colburn</a>\, Member &amp\; Community Relations Manager for details and to reserve.<br />\n<br />\n<br />\n<br />\n&nbsp\;</p>\n
LOCATION:Northshore Senior Center Auditorium
UID:e.2571.19711
SEQUENCE:3
DTSTAMP:20260421T190035Z
URL:https://cm.bothellkenmorechamber.org/events/details/general-meeting-09-24-2020-19711
END:VEVENT

END:VCALENDAR
