BEGIN:VCALENDAR
VERSION:2.0
PRODID:-//ChamberMaster//Event Calendar 2.0//EN
METHOD:PUBLISH
X-PUBLISHED-TTL:P3D
REFRESH-INTERVAL:P3D
CALSCALE:GREGORIAN
BEGIN:VEVENT
DTSTART:20200625T143000Z
DTEND:20200625T160000Z
X-MICROSOFT-CDO-ALLDAYEVENT:FALSE
SUMMARY:General Meeting - Virtual Event
DESCRIPTION:Professionals and business owners are invited to our General Meetings to discover new connections and collaborative opportunities. Attendees at our General Meetings will benefit from:\n\n\n	New and stronger connections\n	Focused discussions or a beneficial presentation\n	Meeting new members and learning about their businesses\n	Hearing from city officials from Kenmore and Bothell who provide updates on issues affecting local businesses.\n\n\nGuests (non-members) are invited\, and are welcome to attend up to 3 Chamber events prior to making a decision about membership.\n\n\n\nVirtual room opens at 7:15am for socializing.\n\n\n\nEvent Sponsorships are available! Amplify your brand awareness with a Chamber virtual event sponsorship. Learn more and RESERVE YOUR SPOT TODAY!
X-ALT-DESC;FMTTYPE=text/html:<p><span style="font-size:16px\;">Professionals and business owners are invited to our General Meetings to discover new connections and collaborative opportunities.&nbsp\;</span><span style="font-size: 16px\;">Attendees at our General Meetings will benefit from:</span></p>\n\n<ul>\n	<li><span style="font-size:16px\;">New and stronger connections</span></li>\n	<li><span style="font-size:16px\;">Focused discussions or a beneficial presentation</span></li>\n	<li><span style="font-size:16px\;">Meeting new members and learning about their businesses</span></li>\n	<li><span style="font-size:16px\;">Hearing from city officials from Kenmore and Bothell who provide updates on issues affecting local businesses.</span></li>\n</ul>\n\n<p><span style="font-size:16px\;">Guests (non-members) are invited\, and are welcome to attend up to 3 Chamber events prior to making a decision about membership.<br />\n<br />\nVirtual room opens at 7:15am for socializing.</span><br />\n<br />\n<strong style="font-size: 16px\;"><span style="color: rgb(178\, 34\, 34)\;">Event Sponsorships are available! Amplify your brand awareness with a Chamber virtual event sponsorship. Learn more and&nbsp\;</span><a href="https://cm.bothellkenmorechamber.org/events/details/chamber-general-meeting-event-sponsorships-21650" target="_blank"><span style="color: rgb(178\, 34\, 34)\;">RESERVE YOUR SPOT TODAY</span></a><span style="color: rgb(178\, 34\, 34)\;">!</span></strong></p>\n
LOCATION:This is a virtual (online) event via Zoom
UID:e.2571.21648
SEQUENCE:3
DTSTAMP:20260423T110541Z
URL:https://cm.bothellkenmorechamber.org/events/details/general-meeting-virtual-event-21648
END:VEVENT

END:VCALENDAR
