BEGIN:VCALENDAR
VERSION:2.0
PRODID:-//ChamberMaster//Event Calendar 2.0//EN
METHOD:PUBLISH
X-PUBLISHED-TTL:P3D
REFRESH-INTERVAL:P3D
CALSCALE:GREGORIAN
BEGIN:VEVENT
DTSTART:20220707T153000Z
DTEND:20220707T170000Z
X-MICROSOFT-CDO-ALLDAYEVENT:FALSE
SUMMARY:Kenmore Business Alliance: In-Person Event
DESCRIPTION:We will be meeting in person at Kenmore City Hall for this event! \n\n\n\nWe welcome professionals and business owners who do\, or want to do business in Kenmore to get involved with our Kenmore Business Alliance (KBA) that meets regularly to:\n\n\n	Create awareness for Kenmore businesses & the community\n	Create networking opportunities for Kenmore businesses\n	Discuss current local issues affecting businesses\n	Provide a two-way communication conduit between the Kenmore business community and city officials\n\nFree to attend. Open to Chamber members and non-members.\n\n\n\nAlso\, register now for the State of the City of Kenmore\, in person event\, Tuesday\, July 19\, 11:30am\, RSVP required\, spaces are limited.
X-ALT-DESC;FMTTYPE=text/html:<p><span style="font-size:18px\;"><strong>We will be meeting in person at Kenmore City Hall for this event!&nbsp\;</strong></span><br />\n<br />\n<span style="font-size:16px\;">We welcome professionals and business owners who do\, or want to do business in Kenmore to get involved with our <a href="https://bothellkenmorechamber.org/our-chamber/committees/kenmore-business-alliance/" target="_blank">Kenmore Business Alliance</a> (KBA) that meets regularly to:</span></p>\n\n<ul>\n	<li><span style="font-size:16px\;">Create awareness for Kenmore businesses &amp\; the community</span></li>\n	<li><span style="font-size:16px\;">Create networking opportunities for Kenmore businesses</span></li>\n	<li><span style="font-size:16px\;">Discuss current local issues affecting businesses</span></li>\n	<li><span style="font-size:16px\;">Provide a two-way communication conduit between the Kenmore business community and city officials</span></li>\n</ul>\n<span style="font-size:16px\;">Free to attend.&nbsp\;Open to Chamber members and non-members.</span><br />\n<br />\n<span style="font-size:16px\;"><span style="font-family:arial\;">Also\, register now for the <a href="https://cm.bothellkenmorechamber.org/events/details/state-of-the-city-of-kenmore-in-person-event-26006">State of the City of Kenmore</a>\, in person event\, Tuesday\, July 19\, 11:30am\, RSVP required\, spaces are limited.&nbsp\;</span></span>
LOCATION:Kenmore City Hall
UID:e.2571.26001
SEQUENCE:3
DTSTAMP:20260419T131151Z
URL:https://cm.bothellkenmorechamber.org/events/details/kenmore-business-alliance-in-person-event-07-07-2022-26001
END:VEVENT

END:VCALENDAR
