BEGIN:VCALENDAR
VERSION:2.0
PRODID:-//ChamberMaster//Event Calendar 2.0//EN
METHOD:PUBLISH
X-PUBLISHED-TTL:P3D
REFRESH-INTERVAL:P3D
CALSCALE:GREGORIAN
BEGIN:VEVENT
DTSTART:20180918T210000Z
DTEND:20180918T220000Z
X-MICROSOFT-CDO-ALLDAYEVENT:FALSE
SUMMARY:Open House & Ribbon Cutting at 9Round Kickboxing
DESCRIPTION:9 Round 30 Minute Kickboxing Fitness is OPEN in Bothell!\n\n\n\nBring a friend or two\, take a tour and see the new gym at the Open House Ribbon Cutting of 9Round Bothell! Light refreshments and snacks will be served.\n\n\n\n9Round is a 30 minute full body Kickboxing workout with a Trainer and NO class times.  The workout changes every day to make it a unique & fun experience. \n\n\n\n9 Round is located across from Home Depot and next to Cash and Carry! \n\n\n\nThere will be a Ribbon Cutting Ceremony at 2:30 PM.\n\n\n\nBring your business card for prize drawings. We look forward to seeing you there!
X-ALT-DESC;FMTTYPE=text/html:<p style="margin:0in\;margin-bottom:.0001pt"><br />\n<span style="background: white\; margin: 0px\; color: black\; font-family: &quot\;Arial&quot\;\,sans-serif\; font-size: 10.5pt\;">9 Round 30 Minute Kickboxing Fitness is OPEN in Bothell!</span><br style="bottom: auto\;box-sizing: content-box\;&#10\;content: normal\;empty-cells: show\;font-variant-ligatures: normal\;font-variant-caps: normal\;&#10\;font-variant-numeric: inherit\;font-variant-east-asian: inherit\;font-stretch: inherit\;&#10\;line-height:inherit\;max-height: none\;max-width:none\;min-height: initial\;&#10\;min-width: initial\;opacity: 1\;outline-offset: 0px\;resize: none\;text-overflow: clip\;&#10\;word-break:inherit\;overflow-wrap: inherit\;border-radius: 0px\;orphans: 2\;&#10\;widows: 2\;-webkit-text-stroke-width: 0px\;float:none\;overflow:visible\;&#10\;right:auto\;visibility:inherit\;word-spacing:0px\;z-index:auto" />\n<br style="bottom: auto\;box-sizing: content-box\;content: normal\;empty-cells: show\;&#10\;font-variant-ligatures: normal\;font-variant-caps: normal\;font-variant-numeric: inherit\;&#10\;font-variant-east-asian: inherit\;font-stretch: inherit\;line-height:inherit\;&#10\;max-height: none\;max-width:none\;min-height: initial\;min-width: initial\;&#10\;opacity: 1\;outline-offset: 0px\;resize: none\;text-overflow: clip\;word-break:&#10\;inherit\;overflow-wrap: inherit\;border-radius: 0px\;orphans: 2\;widows: 2\;&#10\;-webkit-text-stroke-width: 0px\;float:none\;overflow:visible\;right:auto\;&#10\;visibility:inherit\;word-spacing:0px\;z-index:auto" />\n<span style="margin: 0px\; color: black\; font-family: &quot\;Arial&quot\;\,sans-serif\; font-size: 10.5pt\;"><span style="background: white\; margin: 0px\;">Bring&nbsp\;a friend or two\, take&nbsp\;a tour and see the new gym at the Open House Ribbon Cutting of 9Round Bothell! Light refreshments and snacks will be served.</span><br style="bottom: auto\;&#10\;box-sizing: content-box\;content: normal\;empty-cells: show\;font-variant-ligatures: normal\;&#10\;font-variant-caps: normal\;font-variant-numeric: inherit\;font-variant-east-asian: inherit\;&#10\;font-stretch: inherit\;line-height:inherit\;max-height: none\;max-width:none\;&#10\;min-height: initial\;min-width: initial\;opacity: 1\;outline-offset: 0px\;&#10\;resize: none\;text-overflow: clip\;word-break:inherit\;overflow-wrap: inherit\;&#10\;border-radius: 0px\;orphans: 2\;widows: 2\;-webkit-text-stroke-width: 0px\;&#10\;float:none\;overflow:visible\;right:auto\;visibility:inherit\;word-spacing:0px\;&#10\;z-index:auto" />\n<br style="bottom: auto\;box-sizing: content-box\;content: normal\;empty-cells: show\;&#10\;font-variant-ligatures: normal\;font-variant-caps: normal\;font-variant-numeric: inherit\;&#10\;font-variant-east-asian: inherit\;font-stretch: inherit\;line-height:inherit\;&#10\;max-height: none\;max-width:none\;min-height: initial\;min-width: initial\;&#10\;opacity: 1\;outline-offset: 0px\;resize: none\;text-overflow: clip\;word-break:&#10\;inherit\;overflow-wrap: inherit\;border-radius: 0px\;orphans: 2\;widows: 2\;&#10\;-webkit-text-stroke-width: 0px\;float:none\;overflow:visible\;right:auto\;&#10\;visibility:inherit\;word-spacing:0px\;z-index:auto" />\n<span style="background: white\; margin: 0px\; padding: 0in\; border: 1pt windowtext\; border-image: none\;">9Round is a 30 minute full body Kickboxing workout with a Trainer and NO class times.&nbsp\; The workout changes every day to make it a unique &amp\; fun experience.&nbsp\;</span><br style="bottom: auto\;&#10\;box-sizing: content-box\;content: normal\;empty-cells: show\;font-variant-ligatures: normal\;&#10\;font-variant-caps: normal\;font-variant-numeric: inherit\;font-variant-east-asian: inherit\;&#10\;font-stretch: inherit\;line-height:inherit\;max-height: none\;max-width:none\;&#10\;min-height: initial\;min-width: initial\;opacity: 1\;outline-offset: 0px\;&#10\;resize: none\;text-overflow: clip\;word-break:inherit\;overflow-wrap: inherit\;&#10\;border-radius: 0px\;orphans: 2\;widows: 2\;-webkit-text-stroke-width: 0px\;&#10\;float:none\;overflow:visible\;right:auto\;visibility:inherit\;word-spacing:0px\;&#10\;z-index:auto" />\n<br style="bottom: auto\;box-sizing: content-box\;content: normal\;empty-cells: show\;&#10\;font-variant-ligatures: normal\;font-variant-caps: normal\;font-variant-numeric: inherit\;&#10\;font-variant-east-asian: inherit\;font-stretch: inherit\;line-height:inherit\;&#10\;max-height: none\;max-width:none\;min-height: initial\;min-width: initial\;&#10\;opacity: 1\;outline-offset: 0px\;resize: none\;text-overflow: clip\;word-break:&#10\;inherit\;overflow-wrap: inherit\;border-radius: 0px\;orphans: 2\;widows: 2\;&#10\;-webkit-text-stroke-width: 0px\;float:none\;overflow:visible\;right:auto\;&#10\;visibility:inherit\;word-spacing:0px\;z-index:auto" />\n<span style="background: white\; margin: 0px\;">9 Round is located</span><span style="margin: 0px\; padding: 0in\; border: 1pt windowtext\; border-image: none\;">&nbsp\;across from Home Depot and next to Cash and Carry!&nbsp\;</span><br style="bottom: auto\;&#10\;box-sizing: content-box\;content: normal\;empty-cells: show\;font-variant-ligatures: normal\;&#10\;font-variant-caps: normal\;font-variant-numeric: inherit\;font-variant-east-asian: inherit\;&#10\;font-stretch: inherit\;line-height:inherit\;max-height: none\;max-width:none\;&#10\;min-height: initial\;min-width: initial\;opacity: 1\;outline-offset: 0px\;&#10\;resize: none\;text-overflow: clip\;word-break:inherit\;overflow-wrap: inherit\;&#10\;border-radius: 0px\;orphans: 2\;widows: 2\;-webkit-text-stroke-width: 0px\;&#10\;float:none\;overflow:visible\;right:auto\;visibility:inherit\;word-spacing:0px\;&#10\;z-index:auto" />\n<br style="bottom: auto\;box-sizing: content-box\;content: normal\;empty-cells: show\;&#10\;font-variant-ligatures: normal\;font-variant-caps: normal\;font-variant-numeric: inherit\;&#10\;font-variant-east-asian: inherit\;font-stretch: inherit\;line-height:inherit\;&#10\;max-height: none\;max-width:none\;min-height: initial\;min-width: initial\;&#10\;opacity: 1\;outline-offset: 0px\;resize: none\;text-overflow: clip\;word-break:&#10\;inherit\;overflow-wrap: inherit\;border-radius: 0px\;orphans: 2\;widows: 2\;&#10\;-webkit-text-stroke-width: 0px\;float:none\;overflow:visible\;right:auto\;&#10\;visibility:inherit\;word-spacing:0px\;z-index:auto" />\n<span style="background: white\; margin: 0px\;">There will be a Ribbon Cutting Ceremony at 2:30 PM.</span><br style="bottom: auto\;box-sizing: content-box\;content: normal\;&#10\;empty-cells: show\;font-variant-ligatures: normal\;font-variant-caps: normal\;&#10\;font-variant-numeric: inherit\;font-variant-east-asian: inherit\;font-stretch: inherit\;&#10\;line-height:inherit\;max-height: none\;max-width:none\;min-height: initial\;&#10\;min-width: initial\;opacity: 1\;outline-offset: 0px\;resize: none\;text-overflow: clip\;&#10\;word-break:inherit\;overflow-wrap: inherit\;border-radius: 0px\;orphans: 2\;&#10\;widows: 2\;-webkit-text-stroke-width: 0px\;float:none\;overflow:visible\;&#10\;right:auto\;visibility:inherit\;word-spacing:0px\;z-index:auto" />\n<br style="bottom: auto\;box-sizing: content-box\;content: normal\;empty-cells: show\;&#10\;font-variant-ligatures: normal\;font-variant-caps: normal\;font-variant-numeric: inherit\;&#10\;font-variant-east-asian: inherit\;font-stretch: inherit\;line-height:inherit\;&#10\;max-height: none\;max-width:none\;min-height: initial\;min-width: initial\;&#10\;opacity: 1\;outline-offset: 0px\;resize: none\;text-overflow: clip\;word-break:&#10\;inherit\;overflow-wrap: inherit\;border-radius: 0px\;orphans: 2\;widows: 2\;&#10\;-webkit-text-stroke-width: 0px\;float:none\;overflow:visible\;right:auto\;&#10\;visibility:inherit\;word-spacing:0px\;z-index:auto" />\n<span style="background: white\; margin: 0px\;">Bring your business card for prize drawings.&nbsp\;We look forward to seeing you there!</span></span></p>\n\n<p style="margin:0in\;margin-bottom:.0001pt\;overflow-wrap: break-word"><span style="margin: 0px\; font-family: &quot\;Arial&quot\;\,sans-serif\; font-size: 10pt\;">&nbsp\;</span></p>\n<br />\n<br />\n<br />\n<br />\n&nbsp\;
LOCATION:9Round Kickboxing 18404 120th Ave NE Suite 103 Bothell\, WA 98012 (425) 908-0522
UID:e.2571.16798
SEQUENCE:3
DTSTAMP:20260419T135231Z
URL:https://cm.bothellkenmorechamber.org/events/details/open-house-ribbon-cutting-at-9round-kickboxing-16798
END:VEVENT

END:VCALENDAR
