BEGIN:VCALENDAR
VERSION:2.0
PRODID:-//ChamberMaster//Event Calendar 2.0//EN
METHOD:PUBLISH
X-PUBLISHED-TTL:P3D
REFRESH-INTERVAL:P3D
CALSCALE:GREGORIAN
BEGIN:VEVENT
DTSTART:20220117T000000Z
DTEND:20220117T030000Z
X-MICROSOFT-CDO-ALLDAYEVENT:FALSE
SUMMARY:Prime Rib Dinner | The Cottage
DESCRIPTION:Sunday prime rib dinners are back! Join us every Sunday for Cottage herb-crusted prime rib dinner with Beecher's shoestring potato casserole\, garlic saut ed French green beans\, cherry tomato confit\, horseradish cr me fraiche\, cracked peppercorn & cognac jus.\n\n \n\nCaesar salad and French onion soup to start.\n\n \n\n4p to close.
X-ALT-DESC;FMTTYPE=text/html:<div>Sunday prime rib dinners are back! Join us every Sunday for Cottage herb-crusted prime rib dinner with Beecher&rsquo\;s shoestring potato casserole\, garlic saut&eacute\;ed French green beans\, cherry tomato confit\, horseradish cr&egrave\;me fraiche\, cracked peppercorn &amp\; cognac jus.<br />\n&nbsp\;</div>\n\n<div>Caesar salad and French onion soup to start.<br />\n&nbsp\;</div>\n\n<div>4p to close.</div>\n
LOCATION:10029 NE 183rd St Bothell\, WA 98011
UID:e.2571.25481
SEQUENCE:3
DTSTAMP:20260425T185137Z
URL:https://cm.bothellkenmorechamber.org/events/details/prime-rib-dinner-the-cottage-01-16-2022-25481
END:VEVENT

END:VCALENDAR
