BEGIN:VCALENDAR
VERSION:2.0
PRODID:-//ChamberMaster//Event Calendar 2.0//EN
METHOD:PUBLISH
X-PUBLISHED-TTL:P3D
REFRESH-INTERVAL:P3D
CALSCALE:GREGORIAN
BEGIN:VEVENT
DTSTART:20220116T173000Z
DTEND:20220116T190000Z
X-MICROSOFT-CDO-ALLDAYEVENT:FALSE
SUMMARY:Tend to Your Clutter: Online Organizing Session
DESCRIPTION:Feel accomplished tending to your clutter with a hands-on working session led by organization expert Kat Perez\, brought to you by Tend Community for Women.
X-ALT-DESC;FMTTYPE=text/html:<span style="color:rgb(0\, 0\, 0)\; font-family:verdana\; font-size:10pt">Feel accomplished tending to your clutter with a hands-on working session led by organization expert Kat Perez\, brought to you by Tend Community for Women.</span>
LOCATION:Online - Zoom Register at www.tendcommunity.com to get Zoom link
UID:e.2571.25472
SEQUENCE:3
DTSTAMP:20260420T085126Z
URL:https://cm.bothellkenmorechamber.org/events/details/tend-to-your-clutter-online-organizing-session-25472
END:VEVENT

END:VCALENDAR
